BEGIN:VCALENDAR
VERSION:2.0
PRODID:-//Super Seven Club Nederland - ECPv6.15.14//NONSGML v1.0//EN
CALSCALE:GREGORIAN
METHOD:PUBLISH
X-WR-CALNAME:Super Seven Club Nederland
X-ORIGINAL-URL:https://sevenclub.nl
X-WR-CALDESC:Evenementen voor Super Seven Club Nederland
REFRESH-INTERVAL;VALUE=DURATION:PT1H
X-Robots-Tag:noindex
X-PUBLISHED-TTL:PT1H
BEGIN:VTIMEZONE
TZID:Europe/Amsterdam
BEGIN:DAYLIGHT
TZOFFSETFROM:+0100
TZOFFSETTO:+0200
TZNAME:CEST
DTSTART:20240331T010000
END:DAYLIGHT
BEGIN:STANDARD
TZOFFSETFROM:+0200
TZOFFSETTO:+0100
TZNAME:CET
DTSTART:20241027T010000
END:STANDARD
BEGIN:DAYLIGHT
TZOFFSETFROM:+0100
TZOFFSETTO:+0200
TZNAME:CEST
DTSTART:20250330T010000
END:DAYLIGHT
BEGIN:STANDARD
TZOFFSETFROM:+0200
TZOFFSETTO:+0100
TZNAME:CET
DTSTART:20251026T010000
END:STANDARD
BEGIN:DAYLIGHT
TZOFFSETFROM:+0100
TZOFFSETTO:+0200
TZNAME:CEST
DTSTART:20260329T010000
END:DAYLIGHT
BEGIN:STANDARD
TZOFFSETFROM:+0200
TZOFFSETTO:+0100
TZNAME:CET
DTSTART:20261025T010000
END:STANDARD
END:VTIMEZONE
BEGIN:VEVENT
DTSTART;VALUE=DATE:20250808
DTEND;VALUE=DATE:20250809
DTSTAMP:20260422T141625
CREATED:20241231T171739Z
LAST-MODIFIED:20241231T172010Z
UID:3286-1754611200-1754697599@sevenclub.nl
SUMMARY:Sluitingsdatum Kopij  Superb #3
DESCRIPTION:Sluitingsdatum Kopij voor de Superb \nGraag kopij aanleveren voor deze datum \nStuur naar: redactie@sevenclub.nl \nGrote bestanden foto’s www.wetransfer.com
URL:https://sevenclub.nl/meeting/sluitingsdatum-copij-supurb-3/
CATEGORIES:Algemeen,SSCN meetings
ATTACH;FMTTYPE=image/jpeg:https://sevenclub.nl/wp-content/uploads/2023/10/superb-seven-2016-03-1_nr3-e1698578647465.jpg
END:VEVENT
BEGIN:VEVENT
DTSTART;TZID=Europe/Amsterdam:20250824T110000
DTEND;TZID=Europe/Amsterdam:20250824T160000
DTSTAMP:20260422T141625
CREATED:20241229T083505Z
LAST-MODIFIED:20241229T083505Z
UID:3225-1756033200-1756051200@sevenclub.nl
SUMMARY:SSCN bij de KCC op de koffie
DESCRIPTION:Net als in de afgelopen jaren staan er ook voor dit jaar weer verschillende  SSCN bij de KCC op de koffie bijeenkomsten op de agenda.\nDeze  evenementen vinden plaats op een bijzondere locatie\, namelijk het museum café de Kribbe net buiten Wilp. In dit museum café zijn verschillende oude landbouwwerktuigen te zien en de entree is gratis. \nDe planning is om elke maand op een zondag dit te organiseren vanaf 11 uur ‘s morgens tot het niet meer gezellig is. \nEr is ook geen plicht om met een Seven of kitcar te komen\, de daily driver mag ook als je maar gezelligheid meeneemt!
URL:https://sevenclub.nl/meeting/sscn-bij-de-kcc-op-de-koffie-14/
LOCATION:De Kribbe\, Weerdseweg 6A\, Wilp\, 7384 CJ\, Nederland
CATEGORIES:Algemeen,SSCN meetings
ATTACH;FMTTYPE=image/jpeg:https://sevenclub.nl/wp-content/uploads/2023/12/SSCN-bij-de-KCC-op-de-Koffie.jpg
ORGANIZER;CN="Joey":MAILTO:Meetingcoordinator@Sevenclub.nl
END:VEVENT
BEGIN:VEVENT
DTSTART;TZID=Europe/Amsterdam:20250831T100000
DTEND;TZID=Europe/Amsterdam:20250831T180000
DTSTAMP:20260422T141625
CREATED:20250103T144240Z
LAST-MODIFIED:20250828T172541Z
UID:3302-1756634400-1756663200@sevenclub.nl
SUMMARY:F1 GP Nederland kijken
DESCRIPTION:Zondag 31 augustus staat de Formule 1 race in Zandvoort weer op de kalender. \nDit jaar zijn wij weer welkom om met elkaar deze race te bekijken bij de Woeste Wieven in Diepenheim. Dit keer zijn wij niet alleen op het terrein! Daarom graag even opletten dat je niet zomaar overal naar binnen loopt. We zitten op een andere plek dan eerder. \nHet programma is als volgt: \nVanaf 10 uur in de ochtend staat de koffie en thee klaar voor ons. Voor de start van de tourrit zelf doorgeven of je gebruik wilt maken van de lunch mogelijkheid.\nRond 11 uur een tourrit door de omgeving voor de leden die nog niet genoeg hebben gereden.\nNa de rit zal de lunch ongeveer klaar zijn. \nSssst race tijd! \n \n  \nNa een hopelijk mooie race is er nog tijd om verder te borrelen. De zaal waar wij zitten staan enkele goed gevulde koelkasten met drinken. \nAls je nog niet genoeg hebt van de kookkunsten van Johan is er ook de mogelijkheid om te genieten van een lekker diner. \nGraag zien we jullie alleen zondag 31 augustus bij de Woeste Wieven. \nGroet’n \nNicole\, Johan en Joey \nLink naar route in MRA : https://www.myrouteapp.com/en/social/route/12021032?mode=share \nLink naar route files op site:  Klik hier  
URL:https://sevenclub.nl/meeting/f1-gp-nederland-kijken/
LOCATION:De Woeste Wieven op Erve Bonkert\, Deldensestraat 11\,\, Diepenheim\, Overrijssel\, 7478 PG\, Netherlands
CATEGORIES:Algemeen,SSCN meetings
ATTACH;FMTTYPE=image/jpeg:https://sevenclub.nl/wp-content/uploads/2025/01/SSCN-F1-Kijken.jpg
ORGANIZER;CN="Joey":MAILTO:Meetingcoordinator@Sevenclub.nl
END:VEVENT
END:VCALENDAR