BEGIN:VCALENDAR
VERSION:2.0
PRODID:-//Super Seven Club Nederland - ECPv6.15.14//NONSGML v1.0//EN
CALSCALE:GREGORIAN
METHOD:PUBLISH
X-ORIGINAL-URL:https://sevenclub.nl
X-WR-CALDESC:Evenementen voor Super Seven Club Nederland
REFRESH-INTERVAL;VALUE=DURATION:PT1H
X-Robots-Tag:noindex
X-PUBLISHED-TTL:PT1H
BEGIN:VTIMEZONE
TZID:Europe/Amsterdam
BEGIN:DAYLIGHT
TZOFFSETFROM:+0100
TZOFFSETTO:+0200
TZNAME:CEST
DTSTART:20240331T010000
END:DAYLIGHT
BEGIN:STANDARD
TZOFFSETFROM:+0200
TZOFFSETTO:+0100
TZNAME:CET
DTSTART:20241027T010000
END:STANDARD
BEGIN:DAYLIGHT
TZOFFSETFROM:+0100
TZOFFSETTO:+0200
TZNAME:CEST
DTSTART:20250330T010000
END:DAYLIGHT
BEGIN:STANDARD
TZOFFSETFROM:+0200
TZOFFSETTO:+0100
TZNAME:CET
DTSTART:20251026T010000
END:STANDARD
BEGIN:DAYLIGHT
TZOFFSETFROM:+0100
TZOFFSETTO:+0200
TZNAME:CEST
DTSTART:20260329T010000
END:DAYLIGHT
BEGIN:STANDARD
TZOFFSETFROM:+0200
TZOFFSETTO:+0100
TZNAME:CET
DTSTART:20261025T010000
END:STANDARD
END:VTIMEZONE
BEGIN:VEVENT
DTSTART;TZID=Europe/Amsterdam:20250914T093000
DTEND;TZID=Europe/Amsterdam:20250914T170000
DTSTAMP:20260422T125131
CREATED:20250103T145510Z
LAST-MODIFIED:20250511T164352Z
UID:3306-1757842200-1757869200@sevenclub.nl
SUMMARY:KCC Trackdays 2025
DESCRIPTION:KCC Trackday \nVoor een aantal onder ons bekend en op bekend terrein (Midland circuit in Lelystad): de KCC Trackday. Maar ook als circuit rijden nieuw voor je is\, de ideale gelegenheid om met je Seven een keer op een echt circuit te rijden. Op deze dagen kun je met je Seven\, de behendigheid en racekunde van jezelf testen. Of je nou al jaren mee rijdt met de KCC trackdays\, of dat het compleet nieuw voor je is. dit maakt niet uit\, een ieder is welkom. Heb je vragen die dag\, dan lopen er genoeg mensen met voldoende racekennis rond. Er is een altijd een mooie baan uitgezet met vooral bochten dus het gaat nooit echt hard. En je rijdt geen race\, maar gewoon binnen je eigen mogelijkheden. Dus een veilige en rustige manier om kennis te maken met circuit rijden. \nAls SSCN lid zijn we welkom op deze KCC Trackday.  Wat is er nodig? Niet zo gek veel: in ieder geval een Seven (of een kitcar)\, een helm en een milieuzeiltje voor onder de auto op het parkeerterrein die als pitbox fungeert. Maar uiteraard kun je ook alleen als toeschouwer aanwezig zijn. En als je wilt ook een actieve rol als fotograaf of baancommissaris (bij toerbeurt zijn er enkele mensen die de race vlaggen hanteren op de baan). \nProgramma \n09.30 – 10.30 Aankomt en technische keuring\n10.30 Rijders uitleg\n11.00 – 16.00 Slalom racen en drag race\nVanaf 16.00 Afsluiting (met BBQ) \nInschrijven via de KCC website
URL:https://sevenclub.nl/meeting/trackday-kcc-2/
LOCATION:Midland Circuit Lelystad\, Talingweg 89\, Lelystad\, Flevoland\, 8218 NX\, Nederland
CATEGORIES:Algemeen,Track days
ATTACH;FMTTYPE=image/jpeg:https://sevenclub.nl/wp-content/uploads/2025/01/KCC-Trackday.jpg
END:VEVENT
BEGIN:VEVENT
DTSTART;TZID=Europe/Amsterdam:20250921T110000
DTEND;TZID=Europe/Amsterdam:20250921T160000
DTSTAMP:20260422T125131
CREATED:20241229T083615Z
LAST-MODIFIED:20241229T083615Z
UID:3227-1758452400-1758470400@sevenclub.nl
SUMMARY:SSCN bij de KCC op de koffie
DESCRIPTION:Net als in de afgelopen jaren staan er ook voor dit jaar weer verschillende  SSCN bij de KCC op de koffie bijeenkomsten op de agenda.\nDeze  evenementen vinden plaats op een bijzondere locatie\, namelijk het museum café de Kribbe net buiten Wilp. In dit museum café zijn verschillende oude landbouwwerktuigen te zien en de entree is gratis. \nDe planning is om elke maand op een zondag dit te organiseren vanaf 11 uur ‘s morgens tot het niet meer gezellig is. \nEr is ook geen plicht om met een Seven of kitcar te komen\, de daily driver mag ook als je maar gezelligheid meeneemt!
URL:https://sevenclub.nl/meeting/sscn-bij-de-kcc-op-de-koffie-15/
LOCATION:De Kribbe\, Weerdseweg 6A\, Wilp\, 7384 CJ\, Nederland
CATEGORIES:Algemeen,SSCN meetings
ATTACH;FMTTYPE=image/jpeg:https://sevenclub.nl/wp-content/uploads/2023/12/SSCN-bij-de-KCC-op-de-Koffie.jpg
ORGANIZER;CN="Joey":MAILTO:Meetingcoordinator@Sevenclub.nl
END:VEVENT
BEGIN:VEVENT
DTSTART;TZID=Europe/Amsterdam:20250928T100000
DTEND;TZID=Europe/Amsterdam:20250928T170000
DTSTAMP:20260422T125131
CREATED:20250103T145750Z
LAST-MODIFIED:20250914T082849Z
UID:3308-1759053600-1759078800@sevenclub.nl
SUMMARY:Verrassingsrit - Afgelast
DESCRIPTION:Laatste Update ( Sep 14) \nHelaas gaat deze rit niet door. Een rit die Wim met de Mercedus club heeft gereden was geen goed alternatief en tweede aangeboden rit kwam met de datum niet uit\, dus is er besloten de rit niet door te laten gaan. \nBestuur SSCN \nGezocht: \nHelaas door het stoppen van een lid zoek ik voor 28 september iemand die in het zuiden van Nederland (provincie Brabant en of met provincie grens Gelderland en Zuid Holland\, zie bijgevoegde plaatje met de blauwe cirkel) een rit kan uitzetten of uit het archief wil halen. \nIk heb al contact gehad met een clublid van een verregende rit. Deze ligt eigenlijk klaar en zou alleen gecontroleerd moeten worden\, eventueel routeboek aanpassen en afdrukken. Contact met start en eind punt kunnen wij doen net als hulp bij het routeboek. \nAls iemand zich geroepen voelt lees/hoor ik dit graag voor zondag 7 september. Als ik na deze datum niks heb gelezen of gehoord gaan we deze tourrit annuleren. \nContact opnemen kan via meetingcoordinator@sevenclub.nl of via de meetings whatsapp groep \n \n \n 
URL:https://sevenclub.nl/meeting/vreemdgaan-met-je-partner/
CATEGORIES:Algemeen,SSCN meetings
END:VEVENT
END:VCALENDAR