BEGIN:VCALENDAR
VERSION:2.0
PRODID:-//Super Seven Club Nederland - ECPv6.15.14//NONSGML v1.0//EN
CALSCALE:GREGORIAN
METHOD:PUBLISH
X-ORIGINAL-URL:https://sevenclub.nl
X-WR-CALDESC:Evenementen voor Super Seven Club Nederland
REFRESH-INTERVAL;VALUE=DURATION:PT1H
X-Robots-Tag:noindex
X-PUBLISHED-TTL:PT1H
BEGIN:VTIMEZONE
TZID:Europe/Amsterdam
BEGIN:DAYLIGHT
TZOFFSETFROM:+0100
TZOFFSETTO:+0200
TZNAME:CEST
DTSTART:20240331T010000
END:DAYLIGHT
BEGIN:STANDARD
TZOFFSETFROM:+0200
TZOFFSETTO:+0100
TZNAME:CET
DTSTART:20241027T010000
END:STANDARD
BEGIN:DAYLIGHT
TZOFFSETFROM:+0100
TZOFFSETTO:+0200
TZNAME:CEST
DTSTART:20250330T010000
END:DAYLIGHT
BEGIN:STANDARD
TZOFFSETFROM:+0200
TZOFFSETTO:+0100
TZNAME:CET
DTSTART:20251026T010000
END:STANDARD
BEGIN:DAYLIGHT
TZOFFSETFROM:+0100
TZOFFSETTO:+0200
TZNAME:CEST
DTSTART:20260329T010000
END:DAYLIGHT
BEGIN:STANDARD
TZOFFSETFROM:+0200
TZOFFSETTO:+0100
TZNAME:CET
DTSTART:20261025T010000
END:STANDARD
END:VTIMEZONE
BEGIN:VEVENT
DTSTART;TZID=Europe/Amsterdam:20251203T180000
DTEND;TZID=Europe/Amsterdam:20251203T210000
DTSTAMP:20260418T224607
CREATED:20241226T092931Z
LAST-MODIFIED:20241226T092931Z
UID:3190-1764784800-1764795600@sevenclub.nl
SUMMARY:Bestuursvergadering # 4 2025
DESCRIPTION:Bestuursvergadering van het SSCN bestuur in Haarzuilens \nOpmerkingen: je kunt je aanmelden om er een keer bij aanwezig te zijn \nHet Bestuur.
URL:https://sevenclub.nl/meeting/bestuursvergadering-4-2025/
LOCATION:‘t Wapen van Haarzuylen\, Brink 2\, Haarzuilens\, Utrecht\, 3455 SE\, Nederland
CATEGORIES:Algemeen,SSCN meetings
ATTACH;FMTTYPE=image/jpeg:https://sevenclub.nl/wp-content/uploads/2023/11/882513248_max1-e1700249142370.jpg
ORGANIZER;CN="Bestuur":MAILTO:info@sevenclub.nl
END:VEVENT
END:VCALENDAR