BEGIN:VCALENDAR
VERSION:2.0
PRODID:-//Super Seven Club Nederland - ECPv6.15.14//NONSGML v1.0//EN
CALSCALE:GREGORIAN
METHOD:PUBLISH
X-ORIGINAL-URL:https://sevenclub.nl
X-WR-CALDESC:Evenementen voor Super Seven Club Nederland
REFRESH-INTERVAL;VALUE=DURATION:PT1H
X-Robots-Tag:noindex
X-PUBLISHED-TTL:PT1H
BEGIN:VTIMEZONE
TZID:Europe/Amsterdam
BEGIN:DAYLIGHT
TZOFFSETFROM:+0100
TZOFFSETTO:+0200
TZNAME:CEST
DTSTART:20250330T010000
END:DAYLIGHT
BEGIN:STANDARD
TZOFFSETFROM:+0200
TZOFFSETTO:+0100
TZNAME:CET
DTSTART:20251026T010000
END:STANDARD
BEGIN:DAYLIGHT
TZOFFSETFROM:+0100
TZOFFSETTO:+0200
TZNAME:CEST
DTSTART:20260329T010000
END:DAYLIGHT
BEGIN:STANDARD
TZOFFSETFROM:+0200
TZOFFSETTO:+0100
TZNAME:CET
DTSTART:20261025T010000
END:STANDARD
BEGIN:DAYLIGHT
TZOFFSETFROM:+0100
TZOFFSETTO:+0200
TZNAME:CEST
DTSTART:20270328T010000
END:DAYLIGHT
BEGIN:STANDARD
TZOFFSETFROM:+0200
TZOFFSETTO:+0100
TZNAME:CET
DTSTART:20271031T010000
END:STANDARD
END:VTIMEZONE
BEGIN:VEVENT
DTSTART;TZID=Europe/Amsterdam:20260412T110000
DTEND;TZID=Europe/Amsterdam:20260412T160000
DTSTAMP:20260420T173624
CREATED:20260221T184952Z
LAST-MODIFIED:20260221T184952Z
UID:3730-1775991600-1776009600@sevenclub.nl
SUMMARY:SSCN bij de KCC op de koffie
DESCRIPTION:Net als in de afgelopen jaren staan er ook voor dit jaar weer verschillende  SSCN bij de KCC op de koffie bijeenkomsten op de agenda.\nDeze  evenementen vinden plaats op een bijzondere locatie\, namelijk het museum café de Kribbe net buiten Wilp. In dit museum café zijn verschillende oude landbouwwerktuigen te zien en de entree is gratis. \nDe planning is om elke maand op een zondag dit te organiseren vanaf 11 uur ‘s morgens tot het niet meer gezellig is. \nEr is ook geen plicht om met een Seven of kitcar te komen\, de daily driver mag ook als je maar gezelligheid meeneemt!
URL:https://sevenclub.nl/meeting/sscn-bij-de-kcc-op-de-koffie-17/
LOCATION:De Kribbe\, Weerdseweg 6A\, Wilp\, 7384 CJ\, Nederland
CATEGORIES:Algemeen,SSCN meetings
ATTACH;FMTTYPE=image/jpeg:https://sevenclub.nl/wp-content/uploads/2023/12/SSCN-bij-de-KCC-op-de-Koffie-HKOhfM.tmp_.jpg
ORGANIZER;CN="Joey":MAILTO:Meetingcoordinator@Sevenclub.nl
END:VEVENT
BEGIN:VEVENT
DTSTART;TZID=Europe/Amsterdam:20260426T100000
DTEND;TZID=Europe/Amsterdam:20260426T170000
DTSTAMP:20260420T173624
CREATED:20260221T185547Z
LAST-MODIFIED:20260405T182528Z
UID:3732-1777197600-1777222800@sevenclub.nl
SUMMARY:Koningsrit 2026
DESCRIPTION:Koningsrit 2026 \nTraditiegetrouw is de opening van het seizoen de Koningsrit. Dit jaar starten we op een bekende locatie\, nl Van der Kooi Sportscars in Houten. Dicht bij de A27 dus makkelijk aan te rijden. Onder het genot van een kopje koffie met gebak kunnen we gelijk naar al het fraais in de showroom kijken en wie weet een volgende Seven of Lotus uitzoeken. \nHet eerste deel van de rit zal  voornamelijk oostwaards gaan langs plaatsen als Cothen\, Wijk bij Duurstede etc. Bij Rhenen gaan we de Lek over en gaan we door de Betuwe weer in westelijke richting. Hopelijk staan daar de boomgaarden in bloei en rijden we veelvuldig langs mooie bloesemboomgaarden. Vanuit Culemborg gaan we weer oostwaards en met een pondje de Lek over om te eindigen in Driebergen ( dicht bij de A12) \nEindlocatie is aangepast omdat in het weekeinde van de Koningsrit de A2 is afgesloten met files op de A27 tot gevolg. We eindigen nu dicht bij de A12 i.p.v A27 waardoor er hopelijk minder files zijn als we huiswaards rijden \nDe route is nog in de maak\, maar zal 115-120 km worden. \nTot 26 April \nBert & Anja
URL:https://sevenclub.nl/meeting/koningsrit-2026/
LOCATION:Van Der Kooi\, Meidoornkade 18\, Houten\, Utrecht\, 3992 AE\, Nederland
CATEGORIES:Algemeen,SSCN meetings
ATTACH;FMTTYPE=image/jpeg:https://sevenclub.nl/wp-content/uploads/2026/02/Koningsrit2026.jpg
ORGANIZER;CN="Bert":MAILTO:Info@sevenclub.nl
END:VEVENT
BEGIN:VEVENT
DTSTART;TZID=Europe/Amsterdam:20260517T110000
DTEND;TZID=Europe/Amsterdam:20260517T170000
DTSTAMP:20260420T173624
CREATED:20260221T192930Z
LAST-MODIFIED:20260221T192930Z
UID:3741-1779015600-1779037200@sevenclub.nl
SUMMARY:SSCN bij de KCC op de koffie
DESCRIPTION:Net als in de afgelopen jaren staan er ook voor dit jaar weer verschillende  SSCN bij de KCC op de koffie bijeenkomsten op de agenda.\nDeze  evenementen vinden plaats op een bijzondere locatie\, namelijk het museum café de Kribbe net buiten Wilp. In dit museum café zijn verschillende oude landbouwwerktuigen te zien en de entree is gratis. \nDe planning is om elke maand op een zondag dit te organiseren vanaf 11 uur ‘s morgens tot het niet meer gezellig is. \nEr is ook geen plicht om met een Seven of kitcar te komen\, de daily driver mag ook als je maar gezelligheid meeneemt!
URL:https://sevenclub.nl/meeting/sscn-bij-de-kcc-op-de-koffie-18/
LOCATION:De Kribbe\, Weerdseweg 6A\, Wilp\, 7384 CJ\, Nederland
CATEGORIES:Algemeen,SSCN meetings
ATTACH;FMTTYPE=image/jpeg:https://sevenclub.nl/wp-content/uploads/2023/12/SSCN-bij-de-KCC-op-de-Koffie-HKOhfM.tmp_.jpg
ORGANIZER;CN="Joey":MAILTO:Meetingcoordinator@Sevenclub.nl
END:VEVENT
BEGIN:VEVENT
DTSTART;TZID=Europe/Amsterdam:20260614T110000
DTEND;TZID=Europe/Amsterdam:20260614T160000
DTSTAMP:20260420T173624
CREATED:20260222T082719Z
LAST-MODIFIED:20260222T082719Z
UID:3755-1781434800-1781452800@sevenclub.nl
SUMMARY:SSCN bij de KCC op de koffie
DESCRIPTION:Net als in de afgelopen jaren staan er ook voor dit jaar weer verschillende  SSCN bij de KCC op de koffie bijeenkomsten op de agenda.\nDeze  evenementen vinden plaats op een bijzondere locatie\, namelijk het museum café de Kribbe net buiten Wilp. In dit museum café zijn verschillende oude landbouwwerktuigen te zien en de entree is gratis. \nDe planning is om elke maand op een zondag dit te organiseren vanaf 11 uur ‘s morgens tot het niet meer gezellig is. \nEr is ook geen plicht om met een Seven of kitcar te komen\, de daily driver mag ook als je maar gezelligheid meeneemt!
URL:https://sevenclub.nl/meeting/sscn-bij-de-kcc-op-de-koffie-19/
LOCATION:De Kribbe\, Weerdseweg 6A\, Wilp\, 7384 CJ\, Nederland
CATEGORIES:Algemeen,SSCN meetings
ATTACH;FMTTYPE=image/jpeg:https://sevenclub.nl/wp-content/uploads/2023/12/SSCN-bij-de-KCC-op-de-Koffie-HKOhfM.tmp_.jpg
ORGANIZER;CN="Joey":MAILTO:Meetingcoordinator@Sevenclub.nl
END:VEVENT
BEGIN:VEVENT
DTSTART;TZID=Europe/Amsterdam:20260719T110000
DTEND;TZID=Europe/Amsterdam:20260719T170000
DTSTAMP:20260420T173624
CREATED:20260222T155010Z
LAST-MODIFIED:20260222T155010Z
UID:3776-1784458800-1784480400@sevenclub.nl
SUMMARY:SSCN bij de KCC op de koffie
DESCRIPTION:Net als in de afgelopen jaren staan er ook voor dit jaar weer verschillende  SSCN bij de KCC op de koffie bijeenkomsten op de agenda.\nDeze  evenementen vinden plaats op een bijzondere locatie\, namelijk het museum café de Kribbe net buiten Wilp. In dit museum café zijn verschillende oude landbouwwerktuigen te zien en de entree is gratis. \nDe planning is om elke maand op een zondag dit te organiseren vanaf 11 uur ‘s morgens tot het niet meer gezellig is. \nEr is ook geen plicht om met een Seven of kitcar te komen\, de daily driver mag ook als je maar gezelligheid meeneemt!
URL:https://sevenclub.nl/meeting/sscn-bij-de-kcc-op-de-koffie-20/
LOCATION:De Kribbe\, Weerdseweg 6A\, Wilp\, 7384 CJ\, Nederland
CATEGORIES:Algemeen,SSCN meetings
ATTACH;FMTTYPE=image/jpeg:https://sevenclub.nl/wp-content/uploads/2023/12/SSCN-bij-de-KCC-op-de-Koffie-HKOhfM.tmp_.jpg
ORGANIZER;CN="Joey":MAILTO:Meetingcoordinator@Sevenclub.nl
END:VEVENT
BEGIN:VEVENT
DTSTART;TZID=Europe/Amsterdam:20260816T110000
DTEND;TZID=Europe/Amsterdam:20260816T170000
DTSTAMP:20260420T173624
CREATED:20260222T155342Z
LAST-MODIFIED:20260222T155342Z
UID:3778-1786878000-1786899600@sevenclub.nl
SUMMARY:SSCN bij de KCC op de koffie
DESCRIPTION:Net als in de afgelopen jaren staan er ook voor dit jaar weer verschillende  SSCN bij de KCC op de koffie bijeenkomsten op de agenda.\nDeze  evenementen vinden plaats op een bijzondere locatie\, namelijk het museum café de Kribbe net buiten Wilp. In dit museum café zijn verschillende oude landbouwwerktuigen te zien en de entree is gratis. \nDe planning is om elke maand op een zondag dit te organiseren vanaf 11 uur ‘s morgens tot het niet meer gezellig is. \nEr is ook geen plicht om met een Seven of kitcar te komen\, de daily driver mag ook als je maar gezelligheid meeneemt!
URL:https://sevenclub.nl/meeting/sscn-bij-de-kcc-op-de-koffie-21/
LOCATION:De Kribbe\, Weerdseweg 6A\, Wilp\, 7384 CJ\, Nederland
CATEGORIES:Algemeen,SSCN meetings
ATTACH;FMTTYPE=image/jpeg:https://sevenclub.nl/wp-content/uploads/2023/12/SSCN-bij-de-KCC-op-de-Koffie-HKOhfM.tmp_.jpg
ORGANIZER;CN="Joey":MAILTO:Meetingcoordinator@Sevenclub.nl
END:VEVENT
BEGIN:VEVENT
DTSTART;TZID=Europe/Amsterdam:20260913T110000
DTEND;TZID=Europe/Amsterdam:20260913T170000
DTSTAMP:20260420T173624
CREATED:20260222T160723Z
LAST-MODIFIED:20260222T160723Z
UID:3785-1789297200-1789318800@sevenclub.nl
SUMMARY:SSCN bij de KCC op de koffie
DESCRIPTION:Net als in de afgelopen jaren staan er ook voor dit jaar weer verschillende  SSCN bij de KCC op de koffie bijeenkomsten op de agenda.\nDeze  evenementen vinden plaats op een bijzondere locatie\, namelijk het museum café de Kribbe net buiten Wilp. In dit museum café zijn verschillende oude landbouwwerktuigen te zien en de entree is gratis. \nDe planning is om elke maand op een zondag dit te organiseren vanaf 11 uur ‘s morgens tot het niet meer gezellig is. \nEr is ook geen plicht om met een Seven of kitcar te komen\, de daily driver mag ook als je maar gezelligheid meeneemt!
URL:https://sevenclub.nl/meeting/sscn-bij-de-kcc-op-de-koffie-22/
LOCATION:De Kribbe\, Weerdseweg 6A\, Wilp\, 7384 CJ\, Nederland
CATEGORIES:Algemeen,SSCN meetings
ATTACH;FMTTYPE=image/jpeg:https://sevenclub.nl/wp-content/uploads/2023/12/SSCN-bij-de-KCC-op-de-Koffie-HKOhfM.tmp_.jpg
ORGANIZER;CN="Joey":MAILTO:Meetingcoordinator@Sevenclub.nl
END:VEVENT
BEGIN:VEVENT
DTSTART;TZID=Europe/Amsterdam:20260926T093000
DTEND;TZID=Europe/Amsterdam:20260926T180000
DTSTAMP:20260420T173624
CREATED:20260222T154035Z
LAST-MODIFIED:20260318T165449Z
UID:3772-1790415000-1790445600@sevenclub.nl
SUMMARY:Opkikkerdag 2026 (Nieuwe Datum!)
DESCRIPTION:Meerijden tijdens opkikkerdag \nNamens Stichting Opkikker\, wil ik jullie van harte uitnodigen voor zaterdag 26 September dit jaar weer op Center Parcs de Eemhof.\nStichting Opkikker is alweer druk bezig om een geweldige dag te organiseren voor kinderen\, maar ook voor u. \nHopelijk bent u weer net zo enthousiast en heeft u weer zin om mee te rijden op zaterdag 26 September . \nEr is dan een Opkikkerdag voor 50 gezinnen. Stichting Opkikker vraagt aan ons als club\, deze dag op zoek te gaan naar 20 Sevens.\nWe geven gezinnen met een ziek kind de kracht om door te gaan. Als je kind ziek is\, kun je als gezin alle kracht gebruiken\, kracht die er soms simpelweg niet (meer) is.\nPrecies waar wij als Stichting Opkikker bij helpen. \nWilt u weer graag meerijden met deze bijzondere dag\, dan ontvang ik van u een bevestigingsmail van deelname merk/kleur en 06 nr. \nHartelijke groet\, \nnamens Stichting Opkikker!\nHans Hop\, email:  hanshop245d@gmail.com\nCoördinator evenement
URL:https://sevenclub.nl/meeting/opkikkerdag-2026/
LOCATION:De Eemhof\, Zeewolde\, Slingerweg 1\, Zeewolde\, 3896 LD\, Nederland
CATEGORIES:Algemeen,SSCN meetings
ATTACH;FMTTYPE=image/jpeg:https://sevenclub.nl/wp-content/uploads/2024/02/Opkikerdag.jpg
END:VEVENT
END:VCALENDAR