BEGIN:VCALENDAR
VERSION:2.0
PRODID:-//Super Seven Club Nederland - ECPv6.15.14//NONSGML v1.0//EN
CALSCALE:GREGORIAN
METHOD:PUBLISH
X-ORIGINAL-URL:https://sevenclub.nl
X-WR-CALDESC:Evenementen voor Super Seven Club Nederland
REFRESH-INTERVAL;VALUE=DURATION:PT1H
X-Robots-Tag:noindex
X-PUBLISHED-TTL:PT1H
BEGIN:VTIMEZONE
TZID:Europe/Amsterdam
BEGIN:DAYLIGHT
TZOFFSETFROM:+0100
TZOFFSETTO:+0200
TZNAME:CEST
DTSTART:20250330T010000
END:DAYLIGHT
BEGIN:STANDARD
TZOFFSETFROM:+0200
TZOFFSETTO:+0100
TZNAME:CET
DTSTART:20251026T010000
END:STANDARD
BEGIN:DAYLIGHT
TZOFFSETFROM:+0100
TZOFFSETTO:+0200
TZNAME:CEST
DTSTART:20260329T010000
END:DAYLIGHT
BEGIN:STANDARD
TZOFFSETFROM:+0200
TZOFFSETTO:+0100
TZNAME:CET
DTSTART:20261025T010000
END:STANDARD
BEGIN:DAYLIGHT
TZOFFSETFROM:+0100
TZOFFSETTO:+0200
TZNAME:CEST
DTSTART:20270328T010000
END:DAYLIGHT
BEGIN:STANDARD
TZOFFSETFROM:+0200
TZOFFSETTO:+0100
TZNAME:CET
DTSTART:20271031T010000
END:STANDARD
END:VTIMEZONE
BEGIN:VEVENT
DTSTART;TZID=Europe/Amsterdam:20260426T100000
DTEND;TZID=Europe/Amsterdam:20260426T170000
DTSTAMP:20260420T145857
CREATED:20260221T185547Z
LAST-MODIFIED:20260405T182528Z
UID:3732-1777197600-1777222800@sevenclub.nl
SUMMARY:Koningsrit 2026
DESCRIPTION:Koningsrit 2026 \nTraditiegetrouw is de opening van het seizoen de Koningsrit. Dit jaar starten we op een bekende locatie\, nl Van der Kooi Sportscars in Houten. Dicht bij de A27 dus makkelijk aan te rijden. Onder het genot van een kopje koffie met gebak kunnen we gelijk naar al het fraais in de showroom kijken en wie weet een volgende Seven of Lotus uitzoeken. \nHet eerste deel van de rit zal  voornamelijk oostwaards gaan langs plaatsen als Cothen\, Wijk bij Duurstede etc. Bij Rhenen gaan we de Lek over en gaan we door de Betuwe weer in westelijke richting. Hopelijk staan daar de boomgaarden in bloei en rijden we veelvuldig langs mooie bloesemboomgaarden. Vanuit Culemborg gaan we weer oostwaards en met een pondje de Lek over om te eindigen in Driebergen ( dicht bij de A12) \nEindlocatie is aangepast omdat in het weekeinde van de Koningsrit de A2 is afgesloten met files op de A27 tot gevolg. We eindigen nu dicht bij de A12 i.p.v A27 waardoor er hopelijk minder files zijn als we huiswaards rijden \nDe route is nog in de maak\, maar zal 115-120 km worden. \nTot 26 April \nBert & Anja
URL:https://sevenclub.nl/meeting/koningsrit-2026/
LOCATION:Van Der Kooi\, Meidoornkade 18\, Houten\, Utrecht\, 3992 AE\, Nederland
CATEGORIES:Algemeen,SSCN meetings
ATTACH;FMTTYPE=image/jpeg:https://sevenclub.nl/wp-content/uploads/2026/02/Koningsrit2026.jpg
ORGANIZER;CN="Bert":MAILTO:Info@sevenclub.nl
END:VEVENT
END:VCALENDAR