BEGIN:VCALENDAR
VERSION:2.0
PRODID:-//Super Seven Club Nederland - ECPv6.15.14//NONSGML v1.0//EN
CALSCALE:GREGORIAN
METHOD:PUBLISH
X-ORIGINAL-URL:https://sevenclub.nl
X-WR-CALDESC:Evenementen voor Super Seven Club Nederland
REFRESH-INTERVAL;VALUE=DURATION:PT1H
X-Robots-Tag:noindex
X-PUBLISHED-TTL:PT1H
BEGIN:VTIMEZONE
TZID:Europe/Amsterdam
BEGIN:DAYLIGHT
TZOFFSETFROM:+0100
TZOFFSETTO:+0200
TZNAME:CEST
DTSTART:20220327T010000
END:DAYLIGHT
BEGIN:STANDARD
TZOFFSETFROM:+0200
TZOFFSETTO:+0100
TZNAME:CET
DTSTART:20221030T010000
END:STANDARD
BEGIN:DAYLIGHT
TZOFFSETFROM:+0100
TZOFFSETTO:+0200
TZNAME:CEST
DTSTART:20230326T010000
END:DAYLIGHT
BEGIN:STANDARD
TZOFFSETFROM:+0200
TZOFFSETTO:+0100
TZNAME:CET
DTSTART:20231029T010000
END:STANDARD
BEGIN:DAYLIGHT
TZOFFSETFROM:+0100
TZOFFSETTO:+0200
TZNAME:CEST
DTSTART:20240331T010000
END:DAYLIGHT
BEGIN:STANDARD
TZOFFSETFROM:+0200
TZOFFSETTO:+0100
TZNAME:CET
DTSTART:20241027T010000
END:STANDARD
BEGIN:DAYLIGHT
TZOFFSETFROM:+0100
TZOFFSETTO:+0200
TZNAME:CEST
DTSTART:20250330T010000
END:DAYLIGHT
BEGIN:STANDARD
TZOFFSETFROM:+0200
TZOFFSETTO:+0100
TZNAME:CET
DTSTART:20251026T010000
END:STANDARD
BEGIN:DAYLIGHT
TZOFFSETFROM:+0100
TZOFFSETTO:+0200
TZNAME:CEST
DTSTART:20260329T010000
END:DAYLIGHT
BEGIN:STANDARD
TZOFFSETFROM:+0200
TZOFFSETTO:+0100
TZNAME:CET
DTSTART:20261025T010000
END:STANDARD
END:VTIMEZONE
BEGIN:VEVENT
DTSTART;TZID=Europe/Amsterdam:20250601T110000
DTEND;TZID=Europe/Amsterdam:20250601T160000
DTSTAMP:20260418T231039
CREATED:20241229T083229Z
LAST-MODIFIED:20241229T083229Z
UID:3221-1748775600-1748793600@sevenclub.nl
SUMMARY:SSCN bij de KCC op de koffie
DESCRIPTION:Welkom op de besloten pagina van Seven Club Nederland! Hier vind je exclusieve informatie die alleen beschikbaar is voor onze leden en zichtbaar is na inloggen. \nLink na inlogpagina:  Inloggen   \n 
URL:https://sevenclub.nl/meeting/sscn-bij-de-kcc-op-de-koffie-12/
LOCATION:De Kribbe\, Weerdseweg 6A\, Wilp\, 7384 CJ\, Nederland
CATEGORIES:Algemeen,SSCN meetings
ATTACH;FMTTYPE=image/jpeg:https://sevenclub.nl/wp-content/uploads/2023/12/SSCN-bij-de-KCC-op-de-Koffie.jpg
ORGANIZER;CN="Joey":MAILTO:Meetingcoordinator@Sevenclub.nl
END:VEVENT
BEGIN:VEVENT
DTSTART;TZID=Europe/Amsterdam:20250504T110000
DTEND;TZID=Europe/Amsterdam:20250504T160000
DTSTAMP:20260418T231039
CREATED:20241229T083008Z
LAST-MODIFIED:20241229T083008Z
UID:3219-1746356400-1746374400@sevenclub.nl
SUMMARY:SSCN bij de KCC op de koffie
DESCRIPTION:Welkom op de besloten pagina van Seven Club Nederland! Hier vind je exclusieve informatie die alleen beschikbaar is voor onze leden en zichtbaar is na inloggen. \nLink na inlogpagina:  Inloggen   \n 
URL:https://sevenclub.nl/meeting/sscn-bij-de-kcc-op-de-koffie-11/
LOCATION:De Kribbe\, Weerdseweg 6A\, Wilp\, 7384 CJ\, Nederland
CATEGORIES:Algemeen,SSCN meetings
ATTACH;FMTTYPE=image/jpeg:https://sevenclub.nl/wp-content/uploads/2023/12/SSCN-bij-de-KCC-op-de-Koffie.jpg
ORGANIZER;CN="Joey":MAILTO:Meetingcoordinator@Sevenclub.nl
END:VEVENT
BEGIN:VEVENT
DTSTART;TZID=Europe/Amsterdam:20250430T180000
DTEND;TZID=Europe/Amsterdam:20250430T210000
DTSTAMP:20260418T231039
CREATED:20241226T092636Z
LAST-MODIFIED:20241226T092636Z
UID:3186-1746036000-1746046800@sevenclub.nl
SUMMARY:Bestuursvergadering # 2 2025
DESCRIPTION:Welkom op de besloten pagina van Seven Club Nederland! Hier vind je exclusieve informatie die alleen beschikbaar is voor onze leden en zichtbaar is na inloggen. \nLink na inlogpagina:  Inloggen   \n 
URL:https://sevenclub.nl/meeting/bestuursvergadering-2-2025/
LOCATION:‘t Wapen van Haarzuylen\, Brink 2\, Haarzuilens\, Utrecht\, 3455 SE\, Nederland
CATEGORIES:Algemeen,SSCN meetings
ATTACH;FMTTYPE=image/jpeg:https://sevenclub.nl/wp-content/uploads/2023/11/882513248_max1-e1700249142370.jpg
ORGANIZER;CN="Bestuur":MAILTO:info@sevenclub.nl
END:VEVENT
BEGIN:VEVENT
DTSTART;TZID=Europe/Amsterdam:20250419T100000
DTEND;TZID=Europe/Amsterdam:20250419T160000
DTSTAMP:20260418T231039
CREATED:20241229T082345Z
LAST-MODIFIED:20241229T084049Z
UID:3215-1745056800-1745078400@sevenclub.nl
SUMMARY:Zwarte Jatten Dag
DESCRIPTION:Welkom op de besloten pagina van Seven Club Nederland! Hier vind je exclusieve informatie die alleen beschikbaar is voor onze leden en zichtbaar is na inloggen. \nLink na inlogpagina:  Inloggen   \n 
URL:https://sevenclub.nl/meeting/zwarte-jatten-dag/
LOCATION:Garage Caspers\, Burg. J.G. Legroweg 108\, Eelde\, Groningen\, 9761 TD\, Nederland
CATEGORIES:Algemeen,SSCN meetings
ATTACH;FMTTYPE=image/jpeg:https://sevenclub.nl/wp-content/uploads/2023/12/Caspers-Zwarte-Jatten.jpg
ORGANIZER;CN="Garage Caspers":MAILTO:coen@garagecaspers.nl
END:VEVENT
BEGIN:VEVENT
DTSTART;VALUE=DATE:20250414
DTEND;VALUE=DATE:20250415
DTSTAMP:20260418T231039
CREATED:20241231T171547Z
LAST-MODIFIED:20241231T172043Z
UID:3284-1744588800-1744675199@sevenclub.nl
SUMMARY:Sluitingsdatum Kopij  Superb #2
DESCRIPTION:Welkom op de besloten pagina van Seven Club Nederland! Hier vind je exclusieve informatie die alleen beschikbaar is voor onze leden en zichtbaar is na inloggen. \nLink na inlogpagina:  Inloggen   \n 
URL:https://sevenclub.nl/meeting/sluitingsdatum-copij-supurb-2/
LOCATION:Drenthe
CATEGORIES:Algemeen,SSCN meetings
ATTACH;FMTTYPE=image/jpeg:https://sevenclub.nl/wp-content/uploads/2023/10/superb-seven-2016-03-1_nr3-e1698578647465.jpg
END:VEVENT
BEGIN:VEVENT
DTSTART;TZID=Europe/Amsterdam:20250406T110000
DTEND;TZID=Europe/Amsterdam:20250406T160000
DTSTAMP:20260418T231039
CREATED:20241229T082822Z
LAST-MODIFIED:20241229T082822Z
UID:3217-1743937200-1743955200@sevenclub.nl
SUMMARY:SSCN bij de KCC op de koffie
DESCRIPTION:Welkom op de besloten pagina van Seven Club Nederland! Hier vind je exclusieve informatie die alleen beschikbaar is voor onze leden en zichtbaar is na inloggen. \nLink na inlogpagina:  Inloggen   \n 
URL:https://sevenclub.nl/meeting/sscn-bij-de-kcc-op-de-koffie-10/
LOCATION:De Kribbe\, Weerdseweg 6A\, Wilp\, 7384 CJ\, Nederland
CATEGORIES:Algemeen,SSCN meetings
ATTACH;FMTTYPE=image/jpeg:https://sevenclub.nl/wp-content/uploads/2023/12/SSCN-bij-de-KCC-op-de-Koffie.jpg
ORGANIZER;CN="Joey":MAILTO:Meetingcoordinator@Sevenclub.nl
END:VEVENT
BEGIN:VEVENT
DTSTART;TZID=Europe/Amsterdam:20250129T180000
DTEND;TZID=Europe/Amsterdam:20250129T210000
DTSTAMP:20260418T231039
CREATED:20241226T092423Z
LAST-MODIFIED:20241226T092423Z
UID:3184-1738173600-1738184400@sevenclub.nl
SUMMARY:Bestuursvergadering # 1 2025
DESCRIPTION:Welkom op de besloten pagina van Seven Club Nederland! Hier vind je exclusieve informatie die alleen beschikbaar is voor onze leden en zichtbaar is na inloggen. \nLink na inlogpagina:  Inloggen   \n 
URL:https://sevenclub.nl/meeting/bestuursvergadering-1-2025/
LOCATION:‘t Wapen van Haarzuylen\, Brink 2\, Haarzuilens\, Utrecht\, 3455 SE\, Nederland
CATEGORIES:Algemeen,SSCN meetings
ATTACH;FMTTYPE=image/jpeg:https://sevenclub.nl/wp-content/uploads/2023/11/882513248_max1-e1700249142370.jpg
ORGANIZER;CN="Bestuur":MAILTO:info@sevenclub.nl
END:VEVENT
BEGIN:VEVENT
DTSTART;VALUE=DATE:20250110
DTEND;VALUE=DATE:20250111
DTSTAMP:20260418T231039
CREATED:20241231T171407Z
LAST-MODIFIED:20241231T172025Z
UID:3282-1736467200-1736553599@sevenclub.nl
SUMMARY:Sluitingsdatum Kopij  Superb #1
DESCRIPTION:Welkom op de besloten pagina van Seven Club Nederland! Hier vind je exclusieve informatie die alleen beschikbaar is voor onze leden en zichtbaar is na inloggen. \nLink na inlogpagina:  Inloggen   \n 
URL:https://sevenclub.nl/meeting/sluitingsdatum-copij-supurb-1/
LOCATION:Drenthe
CATEGORIES:Algemeen,SSCN meetings
ATTACH;FMTTYPE=image/jpeg:https://sevenclub.nl/wp-content/uploads/2023/10/superb-seven-2016-03-1_nr3-e1698578647465.jpg
END:VEVENT
BEGIN:VEVENT
DTSTART;TZID=Europe/Amsterdam:20241106T180000
DTEND;TZID=Europe/Amsterdam:20241106T210000
DTSTAMP:20260418T231039
CREATED:20240530T143707Z
LAST-MODIFIED:20240530T143707Z
UID:2839-1730916000-1730926800@sevenclub.nl
SUMMARY:Bestuursvergadering # 4 2024
DESCRIPTION:Welkom op de besloten pagina van Seven Club Nederland! Hier vind je exclusieve informatie die alleen beschikbaar is voor onze leden en zichtbaar is na inloggen. \nLink na inlogpagina:  Inloggen   \n 
URL:https://sevenclub.nl/meeting/bestuursvergadering-4-2024/
LOCATION:‘t Wapen van Haarzuylen\, Brink 2\, Haarzuilens\, Utrecht\, 3455 SE\, Nederland
CATEGORIES:Algemeen,SSCN meetings
ATTACH;FMTTYPE=image/jpeg:https://sevenclub.nl/wp-content/uploads/2023/11/882513248_max1-e1700249142370.jpg
END:VEVENT
BEGIN:VEVENT
DTSTART;TZID=Europe/Amsterdam:20240911T180000
DTEND;TZID=Europe/Amsterdam:20240911T210000
DTSTAMP:20260418T231039
CREATED:20240530T143443Z
LAST-MODIFIED:20240530T143540Z
UID:2837-1726077600-1726088400@sevenclub.nl
SUMMARY:Bestuursvergadering # 3 2024
DESCRIPTION:Welkom op de besloten pagina van Seven Club Nederland! Hier vind je exclusieve informatie die alleen beschikbaar is voor onze leden en zichtbaar is na inloggen. \nLink na inlogpagina:  Inloggen   \n 
URL:https://sevenclub.nl/meeting/bestuursvergadering-3-2024/
LOCATION:‘t Wapen van Haarzuylen\, Brink 2\, Haarzuilens\, Utrecht\, 3455 SE\, Nederland
CATEGORIES:Algemeen,SSCN meetings
ATTACH;FMTTYPE=image/jpeg:https://sevenclub.nl/wp-content/uploads/2023/11/882513248_max1-e1700249142370.jpg
END:VEVENT
BEGIN:VEVENT
DTSTART;TZID=Europe/Amsterdam:20231129T180000
DTEND;TZID=Europe/Amsterdam:20231129T210000
DTSTAMP:20260418T231039
CREATED:20231117T191551Z
LAST-MODIFIED:20231117T193623Z
UID:1427-1701280800-1701291600@sevenclub.nl
SUMMARY:Bestuursvergadering # 4 2023
DESCRIPTION:Welkom op de besloten pagina van Seven Club Nederland! Hier vind je exclusieve informatie die alleen beschikbaar is voor onze leden en zichtbaar is na inloggen. \nLink na inlogpagina:  Inloggen   \n 
URL:https://sevenclub.nl/meeting/bestuursvergadering/
LOCATION:‘t Wapen van Haarzuylen\, Brink 2\, Haarzuilens\, Utrecht\, 3455 SE\, Nederland
CATEGORIES:Algemeen
ATTACH;FMTTYPE=image/jpeg:https://sevenclub.nl/wp-content/uploads/2023/11/882513248_max1-e1700249142370.jpg
ORGANIZER;CN="Bestuur":MAILTO:info@sevenclub.nl
END:VEVENT
END:VCALENDAR