BEGIN:VCALENDAR
VERSION:2.0
PRODID:-//Super Seven Club Nederland - ECPv6.15.14//NONSGML v1.0//EN
CALSCALE:GREGORIAN
METHOD:PUBLISH
X-WR-CALNAME:Super Seven Club Nederland
X-ORIGINAL-URL:https://sevenclub.nl
X-WR-CALDESC:Evenementen voor Super Seven Club Nederland
REFRESH-INTERVAL;VALUE=DURATION:PT1H
X-Robots-Tag:noindex
X-PUBLISHED-TTL:PT1H
BEGIN:VTIMEZONE
TZID:Europe/Amsterdam
BEGIN:DAYLIGHT
TZOFFSETFROM:+0100
TZOFFSETTO:+0200
TZNAME:CEST
DTSTART:20220327T010000
END:DAYLIGHT
BEGIN:STANDARD
TZOFFSETFROM:+0200
TZOFFSETTO:+0100
TZNAME:CET
DTSTART:20221030T010000
END:STANDARD
BEGIN:DAYLIGHT
TZOFFSETFROM:+0100
TZOFFSETTO:+0200
TZNAME:CEST
DTSTART:20230326T010000
END:DAYLIGHT
BEGIN:STANDARD
TZOFFSETFROM:+0200
TZOFFSETTO:+0100
TZNAME:CET
DTSTART:20231029T010000
END:STANDARD
BEGIN:DAYLIGHT
TZOFFSETFROM:+0100
TZOFFSETTO:+0200
TZNAME:CEST
DTSTART:20240331T010000
END:DAYLIGHT
BEGIN:STANDARD
TZOFFSETFROM:+0200
TZOFFSETTO:+0100
TZNAME:CET
DTSTART:20241027T010000
END:STANDARD
END:VTIMEZONE
BEGIN:VEVENT
DTSTART;TZID=Europe/Amsterdam:20231104T110000
DTEND;TZID=Europe/Amsterdam:20231104T160000
DTSTAMP:20260425T233228
CREATED:20231022T144845Z
LAST-MODIFIED:20231029T093112Z
UID:487-1699095600-1699113600@sevenclub.nl
SUMMARY:Van der Kooi Winterfair 2023
DESCRIPTION:Van der Kooi Winter Fair \nVDK Sportscars proudly presents our annual winter fair \nWe have always said here at VDK Sportscars Lotus Houten that cars can have different badges but the owners have the same passion\, we are all true petrol heads\, we didn’t choose to be car nerds its just in our blood. \nOn Saturday 4th November 2023 VDK Sportscars Lotus Houten The Winter Fair\, we will be holding our yearly major event at the Houten Lotus Showroom\, as we pull out all the stops to create one of the best car events in the Netherlands. \nHumans have been thinking about different ways to travel for thousands of years. As time has gone on\, they have devised increasingly more effective and efficient methods of travel. The automobile made a dramatic change in the way people travel. There is no simple answer to the question of who invented the automobile and when. It has been a work in progress\, developing over the past several hundred years. \nWe created this annual event  to show our appreciation for esteemed customers and likeminded car lovers from 11:00 to 16:00 you are welcome in our showroom and workshop in Houten\, \nShould you have any special requests please contact any of team who will be happy to assist you. \nVDK Sportscars Winter FairLotus Houten – Meidoornkade 183992 AE  Houtent: 030-4100490
URL:https://sevenclub.nl/meeting/van-der-kooi-winterfair-2023/
LOCATION:Van Der Kooi\, Meidoornkade 18\, Houten\, Utrecht\, 3992 AE\, Nederland
CATEGORIES:Overig
ATTACH;FMTTYPE=image/jpeg:https://sevenclub.nl/wp-content/uploads/2023/10/cropped-SSCN-logo-2-300x300-1.jpg
END:VEVENT
END:VCALENDAR