BEGIN:VCALENDAR
VERSION:2.0
PRODID:-//Super Seven Club Nederland - ECPv6.15.14//NONSGML v1.0//EN
CALSCALE:GREGORIAN
METHOD:PUBLISH
X-WR-CALNAME:Super Seven Club Nederland
X-ORIGINAL-URL:https://sevenclub.nl
X-WR-CALDESC:Evenementen voor Super Seven Club Nederland
REFRESH-INTERVAL;VALUE=DURATION:PT1H
X-Robots-Tag:noindex
X-PUBLISHED-TTL:PT1H
BEGIN:VTIMEZONE
TZID:Europe/Amsterdam
BEGIN:DAYLIGHT
TZOFFSETFROM:+0100
TZOFFSETTO:+0200
TZNAME:CEST
DTSTART:20230326T010000
END:DAYLIGHT
BEGIN:STANDARD
TZOFFSETFROM:+0200
TZOFFSETTO:+0100
TZNAME:CET
DTSTART:20231029T010000
END:STANDARD
BEGIN:DAYLIGHT
TZOFFSETFROM:+0100
TZOFFSETTO:+0200
TZNAME:CEST
DTSTART:20240331T010000
END:DAYLIGHT
BEGIN:STANDARD
TZOFFSETFROM:+0200
TZOFFSETTO:+0100
TZNAME:CET
DTSTART:20241027T010000
END:STANDARD
BEGIN:DAYLIGHT
TZOFFSETFROM:+0100
TZOFFSETTO:+0200
TZNAME:CEST
DTSTART:20250330T010000
END:DAYLIGHT
BEGIN:STANDARD
TZOFFSETFROM:+0200
TZOFFSETTO:+0100
TZNAME:CET
DTSTART:20251026T010000
END:STANDARD
END:VTIMEZONE
BEGIN:VEVENT
DTSTART;TZID=Europe/Amsterdam:20240602T090000
DTEND;TZID=Europe/Amsterdam:20240602T170000
DTSTAMP:20260425T124149
CREATED:20240410T184526Z
LAST-MODIFIED:20240429T074031Z
UID:2626-1717318800-1717347600@sevenclub.nl
SUMMARY:Trackday KCC
DESCRIPTION:Trackday op het Midland circuit in Lelystad. \nInschrijven via de KCC website \nLink: https://www.kitcarclub.nl/forum/index.php?/events/event/421-trackdays-2024/ \n 
URL:https://sevenclub.nl/meeting/trackday-kcc/
LOCATION:Midland Circuit Lelystad\, Talingweg 89\, Lelystad\, Flevoland\, 8218 NX\, Nederland
CATEGORIES:Overig,Track days
ATTACH;FMTTYPE=image/jpeg:https://sevenclub.nl/wp-content/uploads/2024/04/Circuit-Midland.jpeg
END:VEVENT
END:VCALENDAR